BEGIN:VCALENDAR
VERSION:2.0
CALSCALE:GREGORIAN
PRODID:adamgibbons/ics
METHOD:PUBLISH
X-PUBLISHED-TTL:PT1H
BEGIN:VEVENT
UID:503@www.fuorinellanebbia.it
SUMMARY:Nel Senio della memoria - 22° edizione
DTSTAMP:20260422T191016Z
DTSTART:20260425T070000Z
DESCRIPTION:La camminata del Senio della memoria del 25 aprile è pronta.\nC
	i siete? Avete le energie?\n\nPartiamo dalla Liberazione del 1945 e dalla 
	nostra grande Costituzione\nAntifascista.\n\nECCO IL PROGRAMMA LUNGO 18 CH
	ILOMETRI\n\nSabato 25 aprile 2026\, Nel Senio della memoria - 22° edizione
	\n\n * IL POPOLO DELLA ROMAGNA GRIDA ANCORA PIÙ FORTE PER FARE CESSARE LE 
	GUERRE.\n                   UN CANTO D'AMORE LUNGO IL SENIO\n\n\nPartenza 
	a piedi da Alfonsine o da Cotignola.\n\nIn caso di pioggia si farà il 1° m
	aggio\n\n * DUE PARTENZE A SCELTA:\n   \n\n *  ORE 9 -  COTIGNOLA\n   Piaz
	zetta Gino Zoli\n\n * ORE 9 - ALFONSINE\n   Museo della battaglia del Seni
	o\n\n...\n\n * LUNGO L'ARGINE INCONTRERAI \n\n• Le improvvisazioni di pace
	 e amore che nasceranno camminando.\n• Centinaia di papaveri rossi\, nati 
	dalle mani delle donne del Filo Rosso. Sono\npapaveri di Resistenza e di b
	ellezza cuciti in tanti mesi d'inverno per colorare\nil Senio di pace. Le 
	troverete anche nelle casette di Lino.\n• Sul Ponte gli applausi e i salut
	i di quelli di San Potito.\n• Prima di Rossetta: Life Board of peace (Vive
	re a bordo film). La vita è.....un\n"film" oltre di Lino Benini.\n\n...\n\
	n * CORRIERA PER IL RITORNO\n\nAbbiamo una sola corriera. In base alle pre
	notazioni si organizzano a seguire\nuno o due viaggi.\nPrimo viaggio dopo 
	il concerto per i luoghi di partenza della camminata: fermate\nad Alfonsin
	e\, Bagnacavallo\, Cotignola\, Fusignano\, Lugo.\nPrenotazione Corriera: s
	olo watsapp 366 37 34 214\n\nAl termine\, dopo il concerto\, vi portiamo i
	n corriera nei luoghi di partenza\ndella camminata: fermate ad Alfonsine\,
	 Bagnacavallo\, Cotignola\, Fusignano\, Lugo.\n\n...\n\n * per INFO fare r
	iferimento al sito di primolacotignola
URL:https://www.fuorinellanebbia.it/event/nel-senio-della-memoria-22degree-
	edizione
LOCATION:Fiume Senio - Luoghi Vari
STATUS:CONFIRMED
CATEGORIES:Ravenna,manifestazione,25 aprile,resistenza
X-ALT-DESC;FMTTYPE=text/html:<p>La camminata del Senio della memoria del 25
	 aprile è pronta.<br>Ci siete? Avete le energie?<br><br>Partiamo dalla Lib
	erazione del 1945 e dalla nostra grande Costituzione Antifascista.<br><str
	ong><br>ECCO IL PROGRAMMA LUNGO 18 CHILOMETRI</strong></p><p><strong>Sabat
	o 25 aprile 2026,&nbsp;</strong>Nel Senio della memoria -&nbsp;22° edizion
	e</p><ul><li><p><strong>IL POPOLO DELLA ROMAGNA GRIDA ANCORA PIÙ FORTE PER
	 FARE CESSARE LE GUERRE.<br>&nbsp; &nbsp; &nbsp; &nbsp; &nbsp; &nbsp; &nbs
	p; &nbsp; UN CANTO D'AMORE LUNGO IL SENIO</strong></p></li></ul><p><br><st
	rong>Partenza a piedi da Alfonsine o da Cotignola.</strong></p><p>In caso 
	di pioggia si farà il 1° maggio</p><ul><li><p><strong>DUE PARTENZE A SCELT
	A:<br></strong></p></li><li><p>&nbsp;<strong>ORE 9 -&nbsp; COTIGNOLA</stro
	ng><br>Piazzetta Gino Zoli</p></li><li><p><strong>ORE 9 - ALFONSINE</stron
	g><br>Museo della battaglia del Senio</p></li></ul><p>...</p><ul><li><p><s
	trong>LUNGO L'ARGINE INCONTRERAI&nbsp;</strong></p></li></ul><p>• Le <stro
	ng>improvvisazioni</strong> di pace e amore che nasceranno camminando.<br>
	• <strong>Centinaia di papaveri rossi</strong>, nati dalle mani delle donn
	e del Filo Rosso. Sono papaveri di Resistenza e di bellezza cuciti in tant
	i mesi d'inverno per colorare il Senio di pace. Le troverete anche nelle c
	asette di Lino.<br>• <strong>Sul Ponte gli applausi</strong> e i saluti di
	 quelli di San Potito.<br>• Prima di Rossetta: <strong>Life Board of peace
	 </strong>(Vivere a bordo film). La vita è.....un "film" oltre di&nbsp;<st
	rong>Lino Benini.</strong></p><p>...</p><ul><li><p><strong>CORRIERA PER IL
	 RITORNO</strong></p></li></ul><p>Abbiamo una sola corriera. In base alle 
	prenotazioni si organizzano a seguire uno o due viaggi.<br>Primo viaggio d
	opo il concerto per i luoghi di partenza della camminata: fermate ad Alfon
	sine, Bagnacavallo, Cotignola, Fusignano, Lugo.<br><strong>Prenotazione Co
	rriera</strong>: solo watsapp 366 37 34 214</p><p>Al termine, dopo il conc
	erto, vi portiamo in corriera nei luoghi di partenza della camminata: ferm
	ate ad Alfonsine, Bagnacavallo, Cotignola, Fusignano, Lugo.</p><p>...</p><
	ul><li><p><strong>per INFO fare riferimento al sito di primolacotignola</s
	trong></p></li></ul>
BEGIN:VALARM
ACTION:DISPLAY
DESCRIPTION:Nel Senio della memoria - 22° edizione
TRIGGER:-PT1H
END:VALARM
END:VEVENT
END:VCALENDAR
